BEGIN:VCALENDAR
VERSION:2.0
PRODID:-//Hansen Lems for Governor of South Dakota - ECPv6.15.20//NONSGML v1.0//EN
CALSCALE:GREGORIAN
METHOD:PUBLISH
X-WR-CALNAME:Hansen Lems for Governor of South Dakota
X-ORIGINAL-URL:https://www.hansenlems2026.com
X-WR-CALDESC:Events for Hansen Lems for Governor of South Dakota
REFRESH-INTERVAL;VALUE=DURATION:PT1H
X-Robots-Tag:noindex
X-PUBLISHED-TTL:PT1H
BEGIN:VTIMEZONE
TZID:America/North_Dakota/Center
BEGIN:DAYLIGHT
TZOFFSETFROM:-0600
TZOFFSETTO:-0500
TZNAME:CDT
DTSTART:20250309T080000
END:DAYLIGHT
BEGIN:STANDARD
TZOFFSETFROM:-0500
TZOFFSETTO:-0600
TZNAME:CST
DTSTART:20251102T070000
END:STANDARD
BEGIN:DAYLIGHT
TZOFFSETFROM:-0600
TZOFFSETTO:-0500
TZNAME:CDT
DTSTART:20260308T080000
END:DAYLIGHT
BEGIN:STANDARD
TZOFFSETFROM:-0500
TZOFFSETTO:-0600
TZNAME:CST
DTSTART:20261101T070000
END:STANDARD
BEGIN:DAYLIGHT
TZOFFSETFROM:-0600
TZOFFSETTO:-0500
TZNAME:CDT
DTSTART:20270314T080000
END:DAYLIGHT
BEGIN:STANDARD
TZOFFSETFROM:-0500
TZOFFSETTO:-0600
TZNAME:CST
DTSTART:20271107T070000
END:STANDARD
END:VTIMEZONE
BEGIN:VEVENT
DTSTART;TZID=America/North_Dakota/Center:20260422T180000
DTEND;TZID=America/North_Dakota/Center:20260422T203000
DTSTAMP:20260422T105123
CREATED:20260410T163136Z
LAST-MODIFIED:20260410T163136Z
UID:1273-1776880800-1776889800@www.hansenlems2026.com
SUMMARY:Fundraising Dinner in Canton
DESCRIPTION:Canton\, we’d love to have you join us for a special evening! \nYou’re invited to a fundraiser supporting Jon Hansen for Governor on Wednesday\, April 22nd. Come enjoy a great night of conversation\, connection\, and shared purpose as we continue building momentum across South Dakota. \n📍 Gate City Events – Canton\n47947 W 5th St\n🕕 6:00–8:30 PM \nTable sponsorships are available.\nTo RSVP\, call or text 605-709-0634 or 605-212-6998. \nBring a friend and be part of the effort—we look forward to seeing you there!
URL:https://www.hansenlems2026.com/event/fundraising-dinner-in-canton/
END:VEVENT
END:VCALENDAR